BEGIN:VCALENDAR
VERSION:2.0
PRODID:-//Beachcomber Hotel &amp; Resort - ECPv6.2.0.1//NONSGML v1.0//EN
CALSCALE:GREGORIAN
METHOD:PUBLISH
X-ORIGINAL-URL:https://new.beachcomberhotelandresort.com.au
X-WR-CALDESC:Events for Beachcomber Hotel &amp; Resort
REFRESH-INTERVAL;VALUE=DURATION:PT1H
X-Robots-Tag:noindex
X-PUBLISHED-TTL:PT1H
BEGIN:VTIMEZONE
TZID:Australia/Sydney
BEGIN:STANDARD
TZOFFSETFROM:+1100
TZOFFSETTO:+1000
TZNAME:AEST
DTSTART:20220402T160000
END:STANDARD
BEGIN:DAYLIGHT
TZOFFSETFROM:+1000
TZOFFSETTO:+1100
TZNAME:AEDT
DTSTART:20221001T160000
END:DAYLIGHT
END:VTIMEZONE
BEGIN:VEVENT
DTSTART;TZID=Australia/Sydney:20221119T190000
DTEND;TZID=Australia/Sydney:20221120T000000
DTSTAMP:20260425T133013
CREATED:20221012T214625Z
LAST-MODIFIED:20221115T003748Z
UID:10000013-1668884400-1668902400@new.beachcomberhotelandresort.com.au
SUMMARY:SETS
DESCRIPTION:[vc_row css=”.vc_custom_1664331499471{padding-top: 3% !important;padding-right: 0% !important;padding-bottom: 3% !important;padding-left: 0% !important;}”][vc_column]\n	  Dance lakeside from 7pm – featuring local and headline DJs every Saturday. Free entry! [/vc_column][/vc_row]
URL:https://new.beachcomberhotelandresort.com.au/event/sets-oct-15/2022-11-19/
CATEGORIES:Saturdays
ATTACH;FMTTYPE=image/jpeg:https://new.beachcomberhotelandresort.com.au/wp-content/uploads/2022/10/Sets-Generic-Weekly-FB.jpg
END:VEVENT
END:VCALENDAR