BEGIN:VCALENDAR
VERSION:2.0
PRODID:-//Beachcomber Hotel &amp; Resort - ECPv6.2.0.1//NONSGML v1.0//EN
CALSCALE:GREGORIAN
METHOD:PUBLISH
X-WR-CALNAME:Beachcomber Hotel &amp; Resort
X-ORIGINAL-URL:https://new.beachcomberhotelandresort.com.au
X-WR-CALDESC:Events for Beachcomber Hotel &amp; Resort
REFRESH-INTERVAL;VALUE=DURATION:PT1H
X-Robots-Tag:noindex
X-PUBLISHED-TTL:PT1H
BEGIN:VTIMEZONE
TZID:Australia/Sydney
BEGIN:STANDARD
TZOFFSETFROM:+1100
TZOFFSETTO:+1000
TZNAME:AEST
DTSTART:20220402T160000
END:STANDARD
BEGIN:DAYLIGHT
TZOFFSETFROM:+1000
TZOFFSETTO:+1100
TZNAME:AEDT
DTSTART:20221001T160000
END:DAYLIGHT
BEGIN:STANDARD
TZOFFSETFROM:+1100
TZOFFSETTO:+1000
TZNAME:AEST
DTSTART:20230401T160000
END:STANDARD
BEGIN:DAYLIGHT
TZOFFSETFROM:+1000
TZOFFSETTO:+1100
TZNAME:AEDT
DTSTART:20230930T160000
END:DAYLIGHT
END:VTIMEZONE
BEGIN:VEVENT
DTSTART;TZID=Australia/Sydney:20221231T190000
DTEND;TZID=Australia/Sydney:20230101T180000
DTSTAMP:20260424T210754
CREATED:20221012T215303Z
LAST-MODIFIED:20221116T045848Z
UID:10000008-1672513200-1672596000@new.beachcomberhotelandresort.com.au
SUMMARY:Good As NYE
DESCRIPTION:[vc_row css=”.vc_custom_1664331499471{padding-top: 3% !important;padding-right: 0% !important;padding-bottom: 3% !important;padding-left: 0% !important;}”][vc_column]\n	  Join us for a massive NYE celebration at The Beachie featuring headline DJs Odd Mob\, KLP\, LO’99\, Dave Winnel & Tay-G. [/vc_column][/vc_row][vc_row css=”.vc_custom_1664331506489{padding-right: 0% !important;padding-bottom: 5% !important;padding-left: 0% !important;}”][vc_column]\n	\n		\n					Buy Tickets\n			\n					\n\n[/vc_column][/vc_row]
URL:https://new.beachcomberhotelandresort.com.au/event/good-as-new-years-eve/
CATEGORIES:Special Events
ATTACH;FMTTYPE=image/jpeg:https://new.beachcomberhotelandresort.com.au/wp-content/uploads/2022/10/FBevent-NoLink.jpg
END:VEVENT
END:VCALENDAR